Package: broadSeq Version: 1.3.3 Command: rm -rf broadSeq.buildbin-libdir && mkdir broadSeq.buildbin-libdir && /Users/biocbuild/BBS/utils/build-universal.sh broadSeq_1.3.3.tar.gz /Library/Frameworks/R.framework/Resources/bin/R broadSeq.buildbin-libdir StartedAt: 2025-10-01 01:32:51 -0400 (Wed, 01 Oct 2025) EndedAt: 2025-10-01 01:33:48 -0400 (Wed, 01 Oct 2025) EllapsedTime: 56.6 seconds RetCode: 0 Status: OK PackageFile: broadSeq_1.3.3.tgz PackageFileSize: 4.166 MiB