Package: broadSeq Version: 1.3.3 Maintainer: Rishi Das Roy MaintainerEmail: rishi.dasroy at gmail.com git_url: https://git.bioconductor.org/packages/broadSeq git_branch: devel git_last_commit: 0ee75b2 git_last_commit_date: 2025-07-11 07:42:34 -0400 (Fri, 11 Jul 2025)