Package: brendaDb Version: 1.23.0 Command: /home/biocbuild/bbs-3.22-bioc/R/bin/R CMD INSTALL brendaDb StartedAt: 2025-10-09 15:11:33 -0400 (Thu, 09 Oct 2025) EndedAt: 2025-10-09 15:11:52 -0400 (Thu, 09 Oct 2025) EllapsedTime: 19.0 seconds RetCode: 0 Status: OK