Package: breakpointR Version: 1.27.0 Command: /home/biocbuild/R/R/bin/R CMD INSTALL breakpointR StartedAt: 2025-10-13 21:01:01 -0000 (Mon, 13 Oct 2025) EndedAt: 2025-10-13 21:01:39 -0000 (Mon, 13 Oct 2025) EllapsedTime: 38.7 seconds RetCode: 0 Status: OK