Package: breakpointR Version: 1.27.0 Command: /home/biocbuild/R/R/bin/R CMD build --keep-empty-dirs --no-resave-data breakpointR StartedAt: 2025-10-09 23:12:14 -0000 (Thu, 09 Oct 2025) EndedAt: 2025-10-09 23:13:48 -0000 (Thu, 09 Oct 2025) EllapsedTime: 94.0 seconds RetCode: 0 Status: OK PackageFile: breakpointR_1.27.0.tar.gz PackageFileSize: 811.9 KiB