Package: breakpointR Version: 1.27.0 Command: chmod a+r breakpointR -R && F:\biocbuild\bbs-3.22-bioc\R\bin\R.exe CMD build --keep-empty-dirs --no-resave-data breakpointR StartedAt: 2025-08-14 18:51:15 -0400 (Thu, 14 Aug 2025) EndedAt: 2025-08-14 18:53:06 -0400 (Thu, 14 Aug 2025) EllapsedTime: 110.7 seconds RetCode: 0 Status: OK PackageFile: breakpointR_1.27.0.tar.gz PackageFileSize: 820.3 KiB