Package: breakpointR Version: 1.27.0 Command: /home/biocbuild/bbs-3.22-bioc/R/bin/R CMD check --install=check:breakpointR.install-out.txt --library=/home/biocbuild/bbs-3.22-bioc/R/site-library --timings breakpointR_1.27.0.tar.gz StartedAt: 2025-10-13 21:50:07 -0400 (Mon, 13 Oct 2025) EndedAt: 2025-10-13 21:56:41 -0400 (Mon, 13 Oct 2025) EllapsedTime: 393.7 seconds RetCode: 0 Status: OK CheckDir: breakpointR.Rcheck Warnings: 0