Package: breakpointR Version: 1.29.0 Command: /home/biocbuild/bbs-3.23-bioc/R/bin/R CMD INSTALL breakpointR StartedAt: 2025-11-05 15:32:18 -0500 (Wed, 05 Nov 2025) EndedAt: 2025-11-05 15:32:48 -0500 (Wed, 05 Nov 2025) EllapsedTime: 29.3 seconds RetCode: 0 Status: OK