Package: breakpointR Version: 1.29.0 Command: /home/biocbuild/bbs-3.23-bioc/R/bin/R CMD check --install=check:breakpointR.install-out.txt --library=/home/biocbuild/bbs-3.23-bioc/R/site-library --timings breakpointR_1.29.0.tar.gz StartedAt: 2025-11-21 21:38:40 -0500 (Fri, 21 Nov 2025) EndedAt: 2025-11-21 21:43:28 -0500 (Fri, 21 Nov 2025) EllapsedTime: 288.4 seconds RetCode: 0 Status: OK CheckDir: breakpointR.Rcheck Warnings: 0