Package: branchpointer Version: 1.35.1 Command: /home/biocbuild/R/R/bin/R CMD check --install=check:branchpointer.install-out.txt --library=/home/biocbuild/R/R/site-library --no-vignettes --timings branchpointer_1.35.1.tar.gz StartedAt: 2025-09-16 05:16:03 -0000 (Tue, 16 Sep 2025) EndedAt: 2025-09-16 05:22:53 -0000 (Tue, 16 Sep 2025) EllapsedTime: 409.5 seconds RetCode: 0 Status: OK CheckDir: branchpointer.Rcheck Warnings: 0