Package: branchpointer Version: 1.37.0 Command: /home/biocbuild/bbs-3.23-bioc/R/bin/R CMD INSTALL branchpointer StartedAt: 2025-11-03 15:34:18 -0500 (Mon, 03 Nov 2025) EndedAt: 2025-11-03 15:35:09 -0500 (Mon, 03 Nov 2025) EllapsedTime: 51.5 seconds RetCode: 0 Status: OK