Package: branchpointer Version: 1.35.1 Command: /Library/Frameworks/R.framework/Resources/bin/R CMD check --install=check:branchpointer.install-out.txt --library=/Library/Frameworks/R.framework/Resources/library --no-vignettes --timings branchpointer_1.35.1.tar.gz StartedAt: 2025-09-16 19:37:28 -0400 (Tue, 16 Sep 2025) EndedAt: 2025-09-16 19:43:53 -0400 (Tue, 16 Sep 2025) EllapsedTime: 385.9 seconds RetCode: 0 Status: OK CheckDir: branchpointer.Rcheck Warnings: 0