Package: borealis Version: 1.15.0 Command: /home/biocbuild/bbs-3.23-bioc/R/bin/R CMD build --keep-empty-dirs --no-resave-data borealis StartedAt: 2025-11-05 16:38:50 -0500 (Wed, 05 Nov 2025) EndedAt: 2025-11-05 16:41:19 -0500 (Wed, 05 Nov 2025) EllapsedTime: 149.2 seconds RetCode: 0 Status: OK PackageFile: borealis_1.15.0.tar.gz PackageFileSize: 429.3 KiB