Package: borealis Version: 1.13.0 Command: /Library/Frameworks/R.framework/Resources/bin/R CMD INSTALL borealis StartedAt: 2025-10-28 15:37:08 -0400 (Tue, 28 Oct 2025) EndedAt: 2025-10-28 15:38:03 -0400 (Tue, 28 Oct 2025) EllapsedTime: 54.8 seconds RetCode: 0 Status: OK