Package: borealis Version: 1.13.0 Command: /Library/Frameworks/R.framework/Resources/bin/R CMD INSTALL borealis StartedAt: 2025-10-12 15:17:17 -0400 (Sun, 12 Oct 2025) EndedAt: 2025-10-12 15:17:33 -0400 (Sun, 12 Oct 2025) EllapsedTime: 16.5 seconds RetCode: 0 Status: OK