Package: borealis Version: 1.13.0 Command: /Library/Frameworks/R.framework/Resources/bin/R CMD build --keep-empty-dirs --no-resave-data borealis StartedAt: 2025-10-12 15:47:45 -0400 (Sun, 12 Oct 2025) EndedAt: 2025-10-12 15:48:49 -0400 (Sun, 12 Oct 2025) EllapsedTime: 64.7 seconds RetCode: 0 Status: OK PackageFile: borealis_1.13.0.tar.gz PackageFileSize: 426.6 KiB