Package: bnem Version: 1.19.0 Command: /home/biocbuild/bbs-3.23-bioc/R/bin/R CMD build --keep-empty-dirs --no-resave-data bnem StartedAt: 2025-11-21 16:32:25 -0500 (Fri, 21 Nov 2025) EndedAt: 2025-11-21 16:33:32 -0500 (Fri, 21 Nov 2025) EllapsedTime: 67.0 seconds RetCode: 0 Status: OK PackageFile: bnem_1.19.0.tar.gz PackageFileSize: 1.869 MiB