Package: bnem Version: 1.19.0 Command: /Library/Frameworks/R.framework/Resources/bin/R CMD INSTALL bnem StartedAt: 2025-11-21 15:09:59 -0500 (Fri, 21 Nov 2025) EndedAt: 2025-11-21 15:10:12 -0500 (Fri, 21 Nov 2025) EllapsedTime: 13.5 seconds RetCode: 0 Status: OK