Package: bnem Version: 1.19.0 Command: /Library/Frameworks/R.framework/Resources/bin/R CMD build --keep-empty-dirs --no-resave-data bnem StartedAt: 2025-11-21 15:46:57 -0500 (Fri, 21 Nov 2025) EndedAt: 2025-11-21 15:47:24 -0500 (Fri, 21 Nov 2025) EllapsedTime: 26.3 seconds RetCode: 0 Status: OK PackageFile: bnem_1.19.0.tar.gz PackageFileSize: 1.685 MiB