Package: bnem Version: 1.19.0 Command: rm -rf bnem.buildbin-libdir && mkdir bnem.buildbin-libdir && /Users/biocbuild/BBS/utils/build-universal.sh bnem_1.19.0.tar.gz /Library/Frameworks/R.framework/Resources/bin/R bnem.buildbin-libdir StartedAt: 2025-11-21 23:24:21 -0500 (Fri, 21 Nov 2025) EndedAt: 2025-11-21 23:24:38 -0500 (Fri, 21 Nov 2025) EllapsedTime: 17.4 seconds RetCode: 0 Status: OK PackageFile: bnem_1.19.0.tgz PackageFileSize: 1.96 MiB