Package: bnbc Version: 1.33.0 Command: /home/biocbuild/bbs-3.23-bioc/R/bin/R CMD build --keep-empty-dirs --no-resave-data bnbc StartedAt: 2025-11-20 16:31:58 -0500 (Thu, 20 Nov 2025) EndedAt: 2025-11-20 16:33:25 -0500 (Thu, 20 Nov 2025) EllapsedTime: 87.1 seconds RetCode: 0 Status: OK PackageFile: bnbc_1.33.0.tar.gz PackageFileSize: 4.152 MiB