Package: bnbc Version: 1.31.1 Command: /Library/Frameworks/R.framework/Resources/bin/R CMD INSTALL bnbc StartedAt: 2025-10-15 15:18:08 -0400 (Wed, 15 Oct 2025) EndedAt: 2025-10-15 15:18:25 -0400 (Wed, 15 Oct 2025) EllapsedTime: 16.8 seconds RetCode: 0 Status: OK