Package: bnbc Version: 1.31.1 Command: /Library/Frameworks/R.framework/Resources/bin/R CMD build --keep-empty-dirs --no-resave-data bnbc StartedAt: 2025-10-15 15:48:23 -0400 (Wed, 15 Oct 2025) EndedAt: 2025-10-15 15:49:01 -0400 (Wed, 15 Oct 2025) EllapsedTime: 37.4 seconds RetCode: 0 Status: OK PackageFile: bnbc_1.31.1.tar.gz PackageFileSize: 4.152 MiB