Package: bluster Version: 1.19.0 Command: /Library/Frameworks/R.framework/Resources/bin/R CMD INSTALL bluster StartedAt: 2025-10-19 15:17:39 -0400 (Sun, 19 Oct 2025) EndedAt: 2025-10-19 15:18:16 -0400 (Sun, 19 Oct 2025) EllapsedTime: 37.0 seconds RetCode: 0 Status: OK