Package: bluster Version: 1.19.0 Command: /Library/Frameworks/R.framework/Resources/bin/R CMD build --keep-empty-dirs --no-resave-data bluster StartedAt: 2025-10-19 16:18:06 -0400 (Sun, 19 Oct 2025) EndedAt: 2025-10-19 16:19:40 -0400 (Sun, 19 Oct 2025) EllapsedTime: 93.6 seconds RetCode: 1 Status: ERROR PackageFile: None PackageFileSize: NA