Package: bluster Version: 1.19.0 Command: /Library/Frameworks/R.framework/Resources/bin/R CMD INSTALL bluster StartedAt: 2025-09-30 15:10:31 -0400 (Tue, 30 Sep 2025) EndedAt: 2025-09-30 15:10:39 -0400 (Tue, 30 Sep 2025) EllapsedTime: 8.3 seconds RetCode: 0 Status: OK