Package: bluster Version: 1.19.0 Command: /Library/Frameworks/R.framework/Resources/bin/R CMD build --keep-empty-dirs --no-resave-data bluster StartedAt: 2025-09-29 15:46:46 -0400 (Mon, 29 Sep 2025) EndedAt: 2025-09-29 15:47:30 -0400 (Mon, 29 Sep 2025) EllapsedTime: 44.5 seconds RetCode: 0 Status: OK PackageFile: bluster_1.19.0.tar.gz PackageFileSize: 3.258 MiB