Package: blima Version: 1.45.0 Command: /home/biocbuild/bbs-3.23-bioc/R/bin/R CMD build --keep-empty-dirs --no-resave-data blima StartedAt: 2025-11-04 16:29:57 -0500 (Tue, 04 Nov 2025) EndedAt: 2025-11-04 16:34:40 -0500 (Tue, 04 Nov 2025) EllapsedTime: 283.3 seconds RetCode: 0 Status: OK PackageFile: blima_1.45.0.tar.gz PackageFileSize: 264.6 KiB