Package: blima Version: 1.43.0 Command: /Library/Frameworks/R.framework/Resources/bin/R CMD INSTALL blima StartedAt: 2025-10-06 15:33:35 -0400 (Mon, 06 Oct 2025) EndedAt: 2025-10-06 15:34:07 -0400 (Mon, 06 Oct 2025) EllapsedTime: 31.4 seconds RetCode: 0 Status: OK