Package: blima Version: 1.43.0 Command: /Library/Frameworks/R.framework/Resources/bin/R CMD build --keep-empty-dirs --no-resave-data blima StartedAt: 2025-10-05 16:13:48 -0400 (Sun, 05 Oct 2025) EndedAt: 2025-10-05 16:18:46 -0400 (Sun, 05 Oct 2025) EllapsedTime: 298.1 seconds RetCode: 0 Status: OK PackageFile: blima_1.43.0.tar.gz PackageFileSize: 263.9 KiB