Package: blima Version: 1.43.0 Command: rm -rf blima.buildbin-libdir && mkdir blima.buildbin-libdir && /Users/biocbuild/BBS/utils/build-universal.sh blima_1.43.0.tar.gz /Library/Frameworks/R.framework/Resources/bin/R blima.buildbin-libdir StartedAt: 2025-10-06 01:50:48 -0400 (Mon, 06 Oct 2025) EndedAt: 2025-10-06 01:51:25 -0400 (Mon, 06 Oct 2025) EllapsedTime: 37.1 seconds RetCode: 0 Status: OK PackageFile: blima_1.43.0.tgz PackageFileSize: 421.9 KiB