Package: blase Version: 0.99.5 Command: /home/biocbuild/R/R/bin/R CMD INSTALL blase StartedAt: 2025-10-23 21:19:45 -0000 (Thu, 23 Oct 2025) EndedAt: 2025-10-23 21:20:40 -0000 (Thu, 23 Oct 2025) EllapsedTime: 55.0 seconds RetCode: 0 Status: OK