Package: blase Version: 0.99.5 Command: /home/biocbuild/R/R/bin/R CMD build --keep-empty-dirs --no-resave-data blase StartedAt: 2025-10-20 22:19:59 -0000 (Mon, 20 Oct 2025) EndedAt: 2025-10-20 22:37:49 -0000 (Mon, 20 Oct 2025) EllapsedTime: 1069.4 seconds RetCode: 0 Status: OK PackageFile: blase_0.99.5.tar.gz PackageFileSize: 6.575 MiB