Package: blase Version: 0.99.3 Command: /home/biocbuild/bbs-3.22-bioc/R/bin/R CMD check --install=check:blase.install-out.txt --library=/home/biocbuild/bbs-3.22-bioc/R/site-library --timings blase_0.99.3.tar.gz StartedAt: 2025-10-09 21:42:00 -0400 (Thu, 09 Oct 2025) EndedAt: 2025-10-09 21:53:28 -0400 (Thu, 09 Oct 2025) EllapsedTime: 688.1 seconds RetCode: 1 Status: ERROR CheckDir: blase.Rcheck Warnings: NA