Package: blase Version: 0.99.3 Command: /home/biocbuild/bbs-3.22-bioc/R/bin/R CMD build --keep-empty-dirs --no-resave-data --md5 blase StartedAt: 2025-10-03 16:29:37 -0400 (Fri, 03 Oct 2025) EndedAt: 2025-10-03 16:44:49 -0400 (Fri, 03 Oct 2025) EllapsedTime: 911.8 seconds RetCode: 0 Status: OK PackageFile: blase_0.99.3.tar.gz PackageFileSize: 8.61 MiB