Package: blase Version: 1.1.0 Command: /home/biocbuild/bbs-3.23-bioc/R/bin/R CMD INSTALL blase StartedAt: 2025-10-31 16:10:33 -0400 (Fri, 31 Oct 2025) EndedAt: 2025-10-31 16:11:14 -0400 (Fri, 31 Oct 2025) EllapsedTime: 41.2 seconds RetCode: 0 Status: OK