Package: blase Version: 1.1.0 Command: /home/biocbuild/bbs-3.23-bioc/R/bin/R CMD build --keep-empty-dirs --no-resave-data blase StartedAt: 2025-10-31 16:47:27 -0400 (Fri, 31 Oct 2025) EndedAt: 2025-10-31 17:02:34 -0400 (Fri, 31 Oct 2025) EllapsedTime: 907.7 seconds RetCode: 0 Status: OK PackageFile: blase_1.1.0.tar.gz PackageFileSize: 8.617 MiB