Package: blase Version: 0.99.3 Command: /Library/Frameworks/R.framework/Resources/bin/R CMD INSTALL blase StartedAt: 2025-10-03 15:48:12 -0400 (Fri, 03 Oct 2025) EndedAt: 2025-10-03 15:49:10 -0400 (Fri, 03 Oct 2025) EllapsedTime: 58.6 seconds RetCode: 0 Status: OK