Package: blase Version: 0.99.3 Command: /Library/Frameworks/R.framework/Resources/bin/R CMD INSTALL blase StartedAt: 2025-10-03 15:29:18 -0400 (Fri, 03 Oct 2025) EndedAt: 2025-10-03 15:29:36 -0400 (Fri, 03 Oct 2025) EllapsedTime: 17.5 seconds RetCode: 0 Status: OK