Package: blase Version: 0.99.3 Command: /Library/Frameworks/R.framework/Resources/bin/R CMD build --keep-empty-dirs --no-resave-data blase StartedAt: 2025-10-03 15:47:02 -0400 (Fri, 03 Oct 2025) EndedAt: 2025-10-03 15:54:40 -0400 (Fri, 03 Oct 2025) EllapsedTime: 458.1 seconds RetCode: 0 Status: OK PackageFile: blase_0.99.3.tar.gz PackageFileSize: 8.624 MiB