Package: blase Version: 0.99.3 Command: rm -rf blase.buildbin-libdir && mkdir blase.buildbin-libdir && /Users/biocbuild/BBS/utils/build-universal.sh blase_0.99.3.tar.gz /Library/Frameworks/R.framework/Resources/bin/R blase.buildbin-libdir StartedAt: 2025-10-03 22:32:19 -0400 (Fri, 03 Oct 2025) EndedAt: 2025-10-03 22:32:38 -0400 (Fri, 03 Oct 2025) EllapsedTime: 18.3 seconds RetCode: 0 Status: OK PackageFile: blase_0.99.3.tgz PackageFileSize: 8.993 MiB