Package: blase Version: 0.99.3 Maintainer: Andrew McCluskey MaintainerEmail: 2117532m at student.gla.ac.uk git_url: https://git.bioconductor.org/packages/blase git_branch: devel git_last_commit: 59f88c1 git_last_commit_date: 2025-10-01 12:07:26 -0400 (Wed, 01 Oct 2025)