Package: blacksheepr Version: 1.25.0 Command: /home/biocbuild/bbs-3.23-bioc/R/bin/R CMD INSTALL blacksheepr StartedAt: 2025-11-05 15:38:52 -0500 (Wed, 05 Nov 2025) EndedAt: 2025-11-05 15:39:18 -0500 (Wed, 05 Nov 2025) EllapsedTime: 25.7 seconds RetCode: 0 Status: OK