Package: blacksheepr Version: 1.23.0 Command: /Library/Frameworks/R.framework/Resources/bin/R CMD check --install=check:blacksheepr.install-out.txt --library=/Library/Frameworks/R.framework/Resources/library --no-vignettes --timings blacksheepr_1.23.0.tar.gz StartedAt: 2025-10-24 18:44:13 -0400 (Fri, 24 Oct 2025) EndedAt: 2025-10-24 18:45:45 -0400 (Fri, 24 Oct 2025) EllapsedTime: 92.1 seconds RetCode: 0 Status: OK CheckDir: blacksheepr.Rcheck Warnings: 0