Package: biscuiteer Version: 1.25.0 Command: /home/biocbuild/bbs-3.23-bioc/R/bin/R CMD INSTALL biscuiteer StartedAt: 2025-11-05 16:05:55 -0500 (Wed, 05 Nov 2025) EndedAt: 2025-11-05 16:07:06 -0500 (Wed, 05 Nov 2025) EllapsedTime: 71.2 seconds RetCode: 0 Status: OK