Package: biscuiteer Version: 1.25.0 Command: /home/biocbuild/bbs-3.23-bioc/R/bin/R CMD build --keep-empty-dirs --no-resave-data biscuiteer StartedAt: 2025-11-05 16:37:03 -0500 (Wed, 05 Nov 2025) EndedAt: 2025-11-05 16:38:50 -0500 (Wed, 05 Nov 2025) EllapsedTime: 107.1 seconds RetCode: 0 Status: OK PackageFile: biscuiteer_1.25.0.tar.gz PackageFileSize: 4.762 MiB