Package: biscuiteer Version: 1.23.0 Command: /Library/Frameworks/R.framework/Resources/bin/R CMD INSTALL biscuiteer StartedAt: 2025-10-06 15:49:48 -0400 (Mon, 06 Oct 2025) EndedAt: 2025-10-06 15:51:17 -0400 (Mon, 06 Oct 2025) EllapsedTime: 89.4 seconds RetCode: 0 Status: OK