Package: biscuiteer Version: 1.23.0 Command: /Library/Frameworks/R.framework/Resources/bin/R CMD build --keep-empty-dirs --no-resave-data biscuiteer StartedAt: 2025-10-06 16:12:58 -0400 (Mon, 06 Oct 2025) EndedAt: 2025-10-06 16:14:55 -0400 (Mon, 06 Oct 2025) EllapsedTime: 116.4 seconds RetCode: 0 Status: OK PackageFile: biscuiteer_1.23.0.tar.gz PackageFileSize: 4.762 MiB