Package: biscuiteer Version: 1.23.0 Command: rm -rf biscuiteer.buildbin-libdir && mkdir biscuiteer.buildbin-libdir && /Users/biocbuild/BBS/utils/build-universal.sh biscuiteer_1.23.0.tar.gz /Library/Frameworks/R.framework/Resources/bin/R biscuiteer.buildbin-libdir StartedAt: 2025-10-07 02:00:03 -0400 (Tue, 07 Oct 2025) EndedAt: 2025-10-07 02:01:46 -0400 (Tue, 07 Oct 2025) EllapsedTime: 102.6 seconds RetCode: 0 Status: OK PackageFile: biscuiteer_1.23.0.tgz PackageFileSize: 5.194 MiB