Package: biovizBase Version: 1.59.0 Command: /home/biocbuild/bbs-3.23-bioc/R/bin/R CMD build --keep-empty-dirs --no-resave-data biovizBase StartedAt: 2025-11-05 16:36:44 -0500 (Wed, 05 Nov 2025) EndedAt: 2025-11-05 16:37:48 -0500 (Wed, 05 Nov 2025) EllapsedTime: 64.1 seconds RetCode: 0 Status: OK PackageFile: biovizBase_1.59.0.tar.gz PackageFileSize: 2.397 MiB